BEGIN:VCALENDAR
VERSION:2.0
PRODID:-//CSBME - ECPv6.15.20//NONSGML v1.0//EN
CALSCALE:GREGORIAN
METHOD:PUBLISH
X-ORIGINAL-URL:https://csbme.de
X-WR-CALDESC:Veranstaltungen für CSBME
REFRESH-INTERVAL;VALUE=DURATION:PT1H
X-Robots-Tag:noindex
X-PUBLISHED-TTL:PT1H
BEGIN:VTIMEZONE
TZID:Europe/Berlin
BEGIN:DAYLIGHT
TZOFFSETFROM:+0100
TZOFFSETTO:+0200
TZNAME:CEST
DTSTART:20230326T010000
END:DAYLIGHT
BEGIN:STANDARD
TZOFFSETFROM:+0200
TZOFFSETTO:+0100
TZNAME:CET
DTSTART:20231029T010000
END:STANDARD
BEGIN:DAYLIGHT
TZOFFSETFROM:+0100
TZOFFSETTO:+0200
TZNAME:CEST
DTSTART:20240331T010000
END:DAYLIGHT
BEGIN:STANDARD
TZOFFSETFROM:+0200
TZOFFSETTO:+0100
TZNAME:CET
DTSTART:20241027T010000
END:STANDARD
BEGIN:DAYLIGHT
TZOFFSETFROM:+0100
TZOFFSETTO:+0200
TZNAME:CEST
DTSTART:20250330T010000
END:DAYLIGHT
BEGIN:STANDARD
TZOFFSETFROM:+0200
TZOFFSETTO:+0100
TZNAME:CET
DTSTART:20251026T010000
END:STANDARD
END:VTIMEZONE
BEGIN:VEVENT
DTSTART;VALUE=DATE:20240821
DTEND;VALUE=DATE:20240823
DTSTAMP:20260423T130552
CREATED:20240515T140627Z
LAST-MODIFIED:20240516T134501Z
UID:5526-1724198400-1724371199@csbme.de
SUMMARY:Einschulung zum Schuljahr 2024/2025 (21./22.08.2024)
DESCRIPTION:Die Einschulung der neuen Schüler*innen findet statt am Mittwoch\, 21.08.2024. \nDer Unterricht für alle weiteren Klassen entfällt am Mittwoch\, 21.08.2024. \nHier geht es zum Einschulungsplan (bitte anklicken). Evtl. Änderungen werden zeitnah mitgeteilt.
URL:https://csbme.de/event/einschulung-zum-schuljahr-2024-2025
ATTACH;FMTTYPE=image/jpeg:https://csbme.de/wp-content/uploads/2023/01/kalender_250x148.jpg
END:VEVENT
END:VCALENDAR