BEGIN:VCALENDAR
VERSION:2.0
PRODID:-//CSBME - ECPv6.15.20//NONSGML v1.0//EN
CALSCALE:GREGORIAN
METHOD:PUBLISH
X-WR-CALNAME:CSBME
X-ORIGINAL-URL:https://csbme.de
X-WR-CALDESC:Veranstaltungen für CSBME
REFRESH-INTERVAL;VALUE=DURATION:PT1H
X-Robots-Tag:noindex
X-PUBLISHED-TTL:PT1H
BEGIN:VTIMEZONE
TZID:Europe/Berlin
BEGIN:DAYLIGHT
TZOFFSETFROM:+0100
TZOFFSETTO:+0200
TZNAME:CEST
DTSTART:20250330T010000
END:DAYLIGHT
BEGIN:STANDARD
TZOFFSETFROM:+0200
TZOFFSETTO:+0100
TZNAME:CET
DTSTART:20251026T010000
END:STANDARD
BEGIN:DAYLIGHT
TZOFFSETFROM:+0100
TZOFFSETTO:+0200
TZNAME:CEST
DTSTART:20260329T010000
END:DAYLIGHT
BEGIN:STANDARD
TZOFFSETFROM:+0200
TZOFFSETTO:+0100
TZNAME:CET
DTSTART:20261025T010000
END:STANDARD
BEGIN:DAYLIGHT
TZOFFSETFROM:+0100
TZOFFSETTO:+0200
TZNAME:CEST
DTSTART:20270328T010000
END:DAYLIGHT
BEGIN:STANDARD
TZOFFSETFROM:+0200
TZOFFSETTO:+0100
TZNAME:CET
DTSTART:20271031T010000
END:STANDARD
BEGIN:DAYLIGHT
TZOFFSETFROM:+0100
TZOFFSETTO:+0200
TZNAME:CEST
DTSTART:20280326T010000
END:DAYLIGHT
BEGIN:STANDARD
TZOFFSETFROM:+0200
TZOFFSETTO:+0100
TZNAME:CET
DTSTART:20281029T010000
END:STANDARD
END:VTIMEZONE
BEGIN:VEVENT
DTSTART;VALUE=DATE:20260504
DTEND;VALUE=DATE:20260505
DTSTAMP:20260421T171352
CREATED:20250121T134541Z
LAST-MODIFIED:20260220T123113Z
UID:5604-1777852800-1777939199@csbme.de
SUMMARY:Beweglicher Ferientag am CSBME: 04.05.2026
DESCRIPTION:Der Unterricht entfällt an diesem Tag! \nDas Schulbüro ist von 09:00 Uhr bis 12:00 Uhr geöffnet.
URL:https://csbme.de/event/beweglicher-ferientag-am-csbme____
ATTACH;FMTTYPE=image/jpeg:https://csbme.de/wp-content/uploads/2023/01/kalender_250x148.jpg
END:VEVENT
BEGIN:VEVENT
DTSTART;VALUE=DATE:20260605
DTEND;VALUE=DATE:20260606
DTSTAMP:20260421T171352
CREATED:20250121T134626Z
LAST-MODIFIED:20260220T123146Z
UID:5606-1780617600-1780703999@csbme.de
SUMMARY:Beweglicher Ferientag am CSBME: 05.06.2026
DESCRIPTION:Der Unterricht entfällt an diesem Tag! \nDas Schulbüro ist von 09:00 Uhr bis 12:00 Uhr geöffnet.
URL:https://csbme.de/event/beweglicher-ferientag-am-csbme_____
ATTACH;FMTTYPE=image/jpeg:https://csbme.de/wp-content/uploads/2023/01/kalender_250x148.jpg
END:VEVENT
BEGIN:VEVENT
DTSTART;VALUE=DATE:20260902
DTEND;VALUE=DATE:20260904
DTSTAMP:20260421T171352
CREATED:20260312T142952Z
LAST-MODIFIED:20260324T131246Z
UID:9459-1788307200-1788479999@csbme.de
SUMMARY:Einschulung Schuljahr 2026-2027: 02./03.09.2026
DESCRIPTION:Die Einschulung findet statt am Mittwoch\, 02.09.2026. Hier geht es zum Einschulungsplan. \nHier geht es zur Übersicht der Bildungsgänge und Klassenbezeichnungen. \n 
URL:https://csbme.de/event/einschulung-schuljahr-2026-2027
ATTACH;FMTTYPE=image/jpeg:https://csbme.de/wp-content/uploads/2023/01/kalender_250x148.jpg
END:VEVENT
BEGIN:VEVENT
DTSTART;VALUE=DATE:20270519
DTEND;VALUE=DATE:20270522
DTSTAMP:20260421T171352
CREATED:20260120T101413Z
LAST-MODIFIED:20260120T101413Z
UID:5615-1810684800-1810943999@csbme.de
SUMMARY:Bewegliche Ferientage am CSBME
DESCRIPTION:Der Unterricht entfällt an diesen Tagen!
URL:https://csbme.de/event/bewegliche-ferientage-am-csbme___
ATTACH;FMTTYPE=image/jpeg:https://csbme.de/wp-content/uploads/2023/01/kalender_250x148.jpg
END:VEVENT
END:VCALENDAR