BEGIN:VCALENDAR
VERSION:2.0
PRODID:-//CSBME - ECPv6.15.20//NONSGML v1.0//EN
CALSCALE:GREGORIAN
METHOD:PUBLISH
X-WR-CALNAME:CSBME
X-ORIGINAL-URL:https://csbme.de
X-WR-CALDESC:Veranstaltungen für CSBME
REFRESH-INTERVAL;VALUE=DURATION:PT1H
X-Robots-Tag:noindex
X-PUBLISHED-TTL:PT1H
BEGIN:VTIMEZONE
TZID:Europe/Berlin
BEGIN:DAYLIGHT
TZOFFSETFROM:+0100
TZOFFSETTO:+0200
TZNAME:CEST
DTSTART:20230326T010000
END:DAYLIGHT
BEGIN:STANDARD
TZOFFSETFROM:+0200
TZOFFSETTO:+0100
TZNAME:CET
DTSTART:20231029T010000
END:STANDARD
BEGIN:DAYLIGHT
TZOFFSETFROM:+0100
TZOFFSETTO:+0200
TZNAME:CEST
DTSTART:20240331T010000
END:DAYLIGHT
BEGIN:STANDARD
TZOFFSETFROM:+0200
TZOFFSETTO:+0100
TZNAME:CET
DTSTART:20241027T010000
END:STANDARD
BEGIN:DAYLIGHT
TZOFFSETFROM:+0100
TZOFFSETTO:+0200
TZNAME:CEST
DTSTART:20250330T010000
END:DAYLIGHT
BEGIN:STANDARD
TZOFFSETFROM:+0200
TZOFFSETTO:+0100
TZNAME:CET
DTSTART:20251026T010000
END:STANDARD
END:VTIMEZONE
BEGIN:VEVENT
DTSTART;VALUE=DATE:20240923
DTEND;VALUE=DATE:20240928
DTSTAMP:20260421T191813
CREATED:20240905T104708Z
LAST-MODIFIED:20240917T121659Z
UID:6064-1727049600-1727481599@csbme.de
SUMMARY:DKMS - Typisierung Aktionswoche (23.-27.09.2024)
DESCRIPTION:für größere Ansicht bitte anklicken
URL:https://csbme.de/event/dkms-typisierung-aktionswoche
LOCATION:R 26
ATTACH;FMTTYPE=image/jpeg:https://csbme.de/wp-content/uploads/2024/09/dkms-csbme__105x150.jpg
END:VEVENT
END:VCALENDAR